BEGIN:VCALENDAR
PRODID:-//PUBBLE//agenda//NL
VERSION:2.0
METHOD:PUBLISH
BEGIN:VEVENT
DTSTART:20250712T120000Z
DTEND:20250712T130000Z
DTSTAMP:20260424T062607Z
UID:2eae3620-b40d-4f8f-b31d-29a1c9f5e0de
CREATED:20260424T062607Z
NAME:Theatervoorstelling met Sinti muziek en dans bij kasteel Heijen maasduinencentraal.nl
X-WR-CALNAME:Theatervoorstelling met Sinti muziek en dans bij kasteel Heijen
X-ALT-DESC;FMTTYPE=text/html:<a href='/agenda/2025/7/12/theatervoorstelling-met-sinti-muziek-en-dans-bij-kasteel-heijen-108610'>/agenda/2025/7/12/theatervoorstelling-met-sinti-muziek-en-dans-bij-kasteel-heijen-108610</a> || <p>Een Rugzak vol Wantrouwen is vertellende voorstelling in de traditie van oral history enmuziek. De voorstelling laat zien hoe de geschiedenis van Roma en Sinti haar sporenheeft nagelaten; een gemeenschap, begenadigd met talenten en opgezadeld mettrauma’s die van generatie op generatie worden doorgegeven; Hoe doe je mee in eenmaatschappij die je liever ziet gaan dan komen? Met deze voorstelling verbreken we destilte. Naast alle treurnis zijn er ook veel fantastische verhalen die gedeeld moetenworden. Want ondanks alles wordt de gemeenschap gekenmerkt door een enormeveerkracht, samenhorigheid, levenslust en humor. Reserveringen (verplicht)naar reserveringen@museumhetpetershuis.nl . Toegangsprijs 7,50</p><p>Een Rugzak vol Wantrouwen is vertellende voorstelling in de traditie van oral history, dans enmuziek. De voorstelling laat zien hoe de geschiedenis van Roma en Sinti haar sporenheeft nagelaten; een gemeenschap, begenadigd met talenten en opgezadeld mettrauma’s die van generatie op generatie worden doorgegeven</p>
DESCRIPTION:<a href='/agenda/2025/7/12/theatervoorstelling-met-sinti-muziek-en-dans-bij-kasteel-heijen-108610'>/agenda/2025/7/12/theatervoorstelling-met-sinti-muziek-en-dans-bij-kasteel-heijen-108610</a> || <p>Een Rugzak vol Wantrouwen is vertellende voorstelling in de traditie van oral history enmuziek. De voorstelling laat zien hoe de geschiedenis van Roma en Sinti haar sporenheeft nagelaten; een gemeenschap, begenadigd met talenten en opgezadeld mettrauma’s die van generatie op generatie worden doorgegeven; Hoe doe je mee in eenmaatschappij die je liever ziet gaan dan komen? Met deze voorstelling verbreken we destilte. Naast alle treurnis zijn er ook veel fantastische verhalen die gedeeld moetenworden. Want ondanks alles wordt de gemeenschap gekenmerkt door een enormeveerkracht, samenhorigheid, levenslust en humor. Reserveringen (verplicht)naar reserveringen@museumhetpetershuis.nl . Toegangsprijs 7,50</p><p>Een Rugzak vol Wantrouwen is vertellende voorstelling in de traditie van oral history, dans enmuziek. De voorstelling laat zien hoe de geschiedenis van Roma en Sinti haar sporenheeft nagelaten; een gemeenschap, begenadigd met talenten en opgezadeld mettrauma’s die van generatie op generatie worden doorgegeven</p>
LAST-MODIFIED:20260424T062607Z
LOCATION: Kasteel Heijen  | Hoofdstraat 38 Heijen
SEQUENCE:0
STATUS:CONFIRMED
SUMMARY:Theatervoorstelling met Sinti muziek en dans bij kasteel Heijen
TRANSP:OPAQUE
END:VEVENT
END:VCALENDAR
