BEGIN:VCALENDAR
PRODID:-//PUBBLE//agenda//NL
VERSION:2.0
METHOD:PUBLISH
BEGIN:VEVENT
DTSTART:20260110T180000Z
DTEND:20260110T190000Z
DTSTAMP:20260423T062457Z
UID:67660e1b-a00a-49c3-9365-14c2b8227c4e
CREATED:20260423T062457Z
NAME:Prinsenbal maasduinencentraal.nl
X-WR-CALNAME:Prinsenbal
X-ALT-DESC;FMTTYPE=text/html:<a href='/agenda/2026/1/10/prinsenbal-111020'>/agenda/2026/1/10/prinsenbal-111020</a> || <p data-path-to-node="11">Carnavalsvereniging <b data-index-in-node="20" data-path-to-node="12">de Waldrekels</b> nodigt alle inwoners van Ven-Zelderheide en omstreken van harte uit voor het traditionele <b data-index-in-node="124" data-path-to-node="12">Prinsenbal</b>! Een avond vol spanning, traditie en bovenal heel veel gezelligheid.</p><p data-path-to-node="13">Wat kun je verwachten?</p><p data-path-to-node="14,0,0"><b data-index-in-node="0" data-path-to-node="14,0,0">Datum:</b> zaterdag 10 januari</p><p data-path-to-node="14,1,0"><b data-index-in-node="0" data-path-to-node="14,1,0">Locatie:</b> MFA d’n Tunnis, Ven-Zelderheide</p><p data-path-to-node="14,2,0"><b data-index-in-node="0" data-path-to-node="14,2,0">Sfeer:</b> Een warme, dorpse avond met muziek, dans en de langverwachte bekendmaking van onze nieuwe Prins!</p><p data-path-to-node="15">Kom samen met je buren, vrienden en familie om de nieuwe hoogheid te verwelkomen en proost met ons op een onvergetelijk seizoen. Laten we er samen een prachtige avond van maken in de vertrouwde sfeer van d’n Tunnis!</p><p data-path-to-node="16"><b data-index-in-node="0" data-path-to-node="16">Tot ziens op het Prinsenbal! Alaaf!</b></p>
DESCRIPTION:<a href='/agenda/2026/1/10/prinsenbal-111020'>/agenda/2026/1/10/prinsenbal-111020</a> || <p data-path-to-node="11">Carnavalsvereniging <b data-index-in-node="20" data-path-to-node="12">de Waldrekels</b> nodigt alle inwoners van Ven-Zelderheide en omstreken van harte uit voor het traditionele <b data-index-in-node="124" data-path-to-node="12">Prinsenbal</b>! Een avond vol spanning, traditie en bovenal heel veel gezelligheid.</p><p data-path-to-node="13">Wat kun je verwachten?</p><p data-path-to-node="14,0,0"><b data-index-in-node="0" data-path-to-node="14,0,0">Datum:</b> zaterdag 10 januari</p><p data-path-to-node="14,1,0"><b data-index-in-node="0" data-path-to-node="14,1,0">Locatie:</b> MFA d’n Tunnis, Ven-Zelderheide</p><p data-path-to-node="14,2,0"><b data-index-in-node="0" data-path-to-node="14,2,0">Sfeer:</b> Een warme, dorpse avond met muziek, dans en de langverwachte bekendmaking van onze nieuwe Prins!</p><p data-path-to-node="15">Kom samen met je buren, vrienden en familie om de nieuwe hoogheid te verwelkomen en proost met ons op een onvergetelijk seizoen. Laten we er samen een prachtige avond van maken in de vertrouwde sfeer van d’n Tunnis!</p><p data-path-to-node="16"><b data-index-in-node="0" data-path-to-node="16">Tot ziens op het Prinsenbal! Alaaf!</b></p>
LAST-MODIFIED:20260423T062457Z
LOCATION: MFA d’n Tunnis | Vensestraat 1 Ven-Zelderheide
SEQUENCE:0
STATUS:CONFIRMED
SUMMARY:Prinsenbal
TRANSP:OPAQUE
END:VEVENT
END:VCALENDAR
