BEGIN:VCALENDAR
PRODID:-//PUBBLE//agenda//NL
VERSION:2.0
METHOD:PUBLISH
BEGIN:VEVENT
DTSTART:20260427T120000Z
DTEND:20260427T130000Z
DTSTAMP:20260423T104642Z
UID:49273b0b-ccf9-4f5e-8cb4-9eae22485a7f
CREATED:20260423T104642Z
NAME:Koningsdag Ven-Zelderheide maasduinencentraal.nl
X-WR-CALNAME:Koningsdag Ven-Zelderheide
X-ALT-DESC;FMTTYPE=text/html:<a href='/agenda/2026/4/27/koningsdag-ven-zelderheide-111093'>/agenda/2026/4/27/koningsdag-ven-zelderheide-111093</a> || <p data-path-to-node="12">Wij nodigen alle inwoners van ons gezellige dorp uit om samen de nationale feestdag te vieren! Op maandag 27 april verandert het <b data-index-in-node="129" data-path-to-node="12">Ploegsveldje aan de Graaf</b> in het middelpunt van vertier, kinderlach en oer-Hollandse gezelligheid.</p><p data-path-to-node="13"><b data-index-in-node="0" data-path-to-node="14,0,0">Datum:</b> maandag 27 april</p><p data-path-to-node="14,1,0"><b data-index-in-node="0" data-path-to-node="14,1,0">Locatie:</b> Ploegsveldje aan de Graaf, Ven-Zelderheide</p><p data-path-to-node="14,2,0"><b data-index-in-node="0" data-path-to-node="14,2,0">Programma:</b> Klassieke oud-Hollandse spelletjes voor de kinderen, muziek en een ongedwongen sfeer om gezellig bij te praten. Het is dé gelegenheid om buren te ontmoeten en samen te proosten onder de oranje vlaggen.</p><p data-path-to-node="14,3,0"><b data-index-in-node="0" data-path-to-node="14,3,0">Sfeer:</b> Lokaal, hartelijk en familiair. Hier voelt iedereen zich een eregast op het koninklijke feest!</p><p data-path-to-node="15">Haal je oranje sjaals, hoeden en strikken tevoorschijn — laten we de dag kleuren met onze nationale trots!</p><p data-path-to-node="16"><b data-index-in-node="0" data-path-to-node="16">Tot ziens op het Ploegsveldje! Leve de Koning!</b></p>
DESCRIPTION:<a href='/agenda/2026/4/27/koningsdag-ven-zelderheide-111093'>/agenda/2026/4/27/koningsdag-ven-zelderheide-111093</a> || <p data-path-to-node="12">Wij nodigen alle inwoners van ons gezellige dorp uit om samen de nationale feestdag te vieren! Op maandag 27 april verandert het <b data-index-in-node="129" data-path-to-node="12">Ploegsveldje aan de Graaf</b> in het middelpunt van vertier, kinderlach en oer-Hollandse gezelligheid.</p><p data-path-to-node="13"><b data-index-in-node="0" data-path-to-node="14,0,0">Datum:</b> maandag 27 april</p><p data-path-to-node="14,1,0"><b data-index-in-node="0" data-path-to-node="14,1,0">Locatie:</b> Ploegsveldje aan de Graaf, Ven-Zelderheide</p><p data-path-to-node="14,2,0"><b data-index-in-node="0" data-path-to-node="14,2,0">Programma:</b> Klassieke oud-Hollandse spelletjes voor de kinderen, muziek en een ongedwongen sfeer om gezellig bij te praten. Het is dé gelegenheid om buren te ontmoeten en samen te proosten onder de oranje vlaggen.</p><p data-path-to-node="14,3,0"><b data-index-in-node="0" data-path-to-node="14,3,0">Sfeer:</b> Lokaal, hartelijk en familiair. Hier voelt iedereen zich een eregast op het koninklijke feest!</p><p data-path-to-node="15">Haal je oranje sjaals, hoeden en strikken tevoorschijn — laten we de dag kleuren met onze nationale trots!</p><p data-path-to-node="16"><b data-index-in-node="0" data-path-to-node="16">Tot ziens op het Ploegsveldje! Leve de Koning!</b></p>
LAST-MODIFIED:20260423T104642Z
LOCATION: MFA d’n Tunnis | Vensestraat 1 Ven-Zelderheide
SEQUENCE:0
STATUS:CONFIRMED
SUMMARY:Koningsdag Ven-Zelderheide
TRANSP:OPAQUE
END:VEVENT
END:VCALENDAR
