BEGIN:VCALENDAR
PRODID:-//PUBBLE//agenda//NL
VERSION:2.0
METHOD:PUBLISH
BEGIN:VEVENT
DTSTART:20260426T080000Z
DTEND:20260426T100000Z
DTSTAMP:20260423T160156Z
UID:ef6a5a1b-cd4a-4ce9-9100-30f9287e36b6
CREATED:20260423T160156Z
NAME:Kinderactiviteit: friemelbeestjeswandeling in Afferden maasduinencentraal.nl
X-WR-CALNAME:Kinderactiviteit: friemelbeestjeswandeling in Afferden
X-ALT-DESC;FMTTYPE=text/html:<a href='/agenda/2026/4/26/kinderactiviteit-friemelbeestjeswandeling-in-afferden-112526'>/agenda/2026/4/26/kinderactiviteit-friemelbeestjeswandeling-in-afferden-112526</a> || <p>De natuur is een grote ontdekkingstocht. Als je door het bos loopt zie je de meeste prachtige bomen, planten en bloemen. Iets minder zichtbaar zijn de kleine friemelbeestjes die in de natuur leven. Wat kruipt daar door het struikgewas? Is het een klein spinnetje of misschien wel een pissebed? Ga mee op pad met onze beestjesexpert en leer hoe je met behulp van een doek, net en potjes kleine beestjes in de natuur beter kunt bekijken en daarna natuurlijk weer vrij laat. Er leven heel veel bodembeestjes in Nationaal Park De Maasduinen, dus wat er allemaal gevangen gaat worden, is een verrassing.</p><p><strong>De excursie start om 10:00 vanaf Activiteitencentrum De Zevenboom, Kapelstraat 71, 5851 AS in Afferden. Zorg dat de kinderen warm genoeg gekleed zijn en goed schoeisel aan hebben, passend bij het weer en de wandeling.&nbsp;</strong></p>
DESCRIPTION:<a href='/agenda/2026/4/26/kinderactiviteit-friemelbeestjeswandeling-in-afferden-112526'>/agenda/2026/4/26/kinderactiviteit-friemelbeestjeswandeling-in-afferden-112526</a> || <p>De natuur is een grote ontdekkingstocht. Als je door het bos loopt zie je de meeste prachtige bomen, planten en bloemen. Iets minder zichtbaar zijn de kleine friemelbeestjes die in de natuur leven. Wat kruipt daar door het struikgewas? Is het een klein spinnetje of misschien wel een pissebed? Ga mee op pad met onze beestjesexpert en leer hoe je met behulp van een doek, net en potjes kleine beestjes in de natuur beter kunt bekijken en daarna natuurlijk weer vrij laat. Er leven heel veel bodembeestjes in Nationaal Park De Maasduinen, dus wat er allemaal gevangen gaat worden, is een verrassing.</p><p><strong>De excursie start om 10:00 vanaf Activiteitencentrum De Zevenboom, Kapelstraat 71, 5851 AS in Afferden. Zorg dat de kinderen warm genoeg gekleed zijn en goed schoeisel aan hebben, passend bij het weer en de wandeling.&nbsp;</strong></p>
LAST-MODIFIED:20260423T160156Z
LOCATION:  Activiteitencentrum De Zevenboom | Kapelstraat 71 Afferden
SEQUENCE:0
STATUS:CONFIRMED
SUMMARY:Kinderactiviteit: friemelbeestjeswandeling in Afferden
TRANSP:OPAQUE
END:VEVENT
END:VCALENDAR
