BEGIN:VCALENDAR
PRODID:-//PUBBLE//agenda//NL
VERSION:2.0
METHOD:PUBLISH
BEGIN:VEVENT
DTSTART:20260423T170000Z
DTEND:20260423T190000Z
DTSTAMP:20260420T161125Z
UID:777bbdd4-d81b-4f87-99fa-275ecd2b3477
CREATED:20260420T161125Z
NAME:Cursus: Herstel door Verbondenheid maasduinencentraal.nl
X-WR-CALNAME:Cursus: Herstel door Verbondenheid
X-ALT-DESC;FMTTYPE=text/html:<a href='/agenda/2026/4/23/cursus-herstel-door-verbondenheid-112534'>/agenda/2026/4/23/cursus-herstel-door-verbondenheid-112534</a> || <p>• Vanaf donderdag 26 februari, 12 weken en een terugkomavond<br />• 19.00 tot 21.00 uur<br />• Edith Steinkapel, Murseltseweg 4a in Nieuw Bergen</p><p><strong>Wat houdt de cursus in?</strong><br />De cursus is voor iedereen die last heeft van psychische klachten of te maken krijgt met verlies in welke aard dan ook. In een warme, veilige omgeving werk je aan verwerking en herstel. Dit doe je samen met de andere deelnemers en met gecertificeerd ervaringsdeskundige Francis Janssen.<br />In de cursus “Herstel door Verbondenheid” ga je uit van je eigen kracht. Je leert bijvoorbeeld voor jezelf op te komen, je mening te uiten, wat voor keuzes zijn er en hoe maak ik mijn eigen keuzes? Wat voor soort doelen zijn er en hoe kan ik mijn eigen doelen stellen en hoe kan ik die bereiken? Dit vormt de basis voor je verdere herstel.</p><p><strong>Meedoen?</strong><br />Neem dan contact op met Francis Janssen via (06) 30 14 51 04 of <a href="mailto:francisense@gmail.com."></a><a href="mailto:francisense@gmail.com">francisense@gmail.com</a>.&nbsp;</p><p><label>Informatie</label><br />Telefoon <a href="tel:06-30145104">06-30145104</a><br />E-mail <a href="mailto:francisense@gmail.com">francisense@gmail.com</a><br />Website&nbsp;<a href="https://francisense.nl/herstel-door-verbondenheid/" rel="nofollow" target="_blank">https://francisense.nl/herstel-door-verbondenheid/</a> </p>
DESCRIPTION:<a href='/agenda/2026/4/23/cursus-herstel-door-verbondenheid-112534'>/agenda/2026/4/23/cursus-herstel-door-verbondenheid-112534</a> || <p>• Vanaf donderdag 26 februari, 12 weken en een terugkomavond<br />• 19.00 tot 21.00 uur<br />• Edith Steinkapel, Murseltseweg 4a in Nieuw Bergen</p><p><strong>Wat houdt de cursus in?</strong><br />De cursus is voor iedereen die last heeft van psychische klachten of te maken krijgt met verlies in welke aard dan ook. In een warme, veilige omgeving werk je aan verwerking en herstel. Dit doe je samen met de andere deelnemers en met gecertificeerd ervaringsdeskundige Francis Janssen.<br />In de cursus “Herstel door Verbondenheid” ga je uit van je eigen kracht. Je leert bijvoorbeeld voor jezelf op te komen, je mening te uiten, wat voor keuzes zijn er en hoe maak ik mijn eigen keuzes? Wat voor soort doelen zijn er en hoe kan ik mijn eigen doelen stellen en hoe kan ik die bereiken? Dit vormt de basis voor je verdere herstel.</p><p><strong>Meedoen?</strong><br />Neem dan contact op met Francis Janssen via (06) 30 14 51 04 of <a href="mailto:francisense@gmail.com."></a><a href="mailto:francisense@gmail.com">francisense@gmail.com</a>.&nbsp;</p><p><label>Informatie</label><br />Telefoon <a href="tel:06-30145104">06-30145104</a><br />E-mail <a href="mailto:francisense@gmail.com">francisense@gmail.com</a><br />Website&nbsp;<a href="https://francisense.nl/herstel-door-verbondenheid/" rel="nofollow" target="_blank">https://francisense.nl/herstel-door-verbondenheid/</a> </p>
LAST-MODIFIED:20260420T161125Z
LOCATION: Edith Steinkapel | Murseltseweg 4 Bergen
SEQUENCE:0
STATUS:CONFIRMED
SUMMARY:Cursus: Herstel door Verbondenheid
TRANSP:OPAQUE
END:VEVENT
END:VCALENDAR
