BEGIN:VCALENDAR
PRODID:-//PUBBLE//agenda//NL
VERSION:2.0
METHOD:PUBLISH
BEGIN:VEVENT
DTSTART:20260423T080000Z
DTEND:20260423T090000Z
DTSTAMP:20260420T162434Z
UID:8cddc32b-0522-418d-9c0b-205d40d14abd
CREATED:20260420T162434Z
NAME:Ontmoetingspunt Well: Communicanten door de jaren heen maasduinencentraal.nl
X-WR-CALNAME:Ontmoetingspunt Well: Communicanten door de jaren heen
X-ALT-DESC;FMTTYPE=text/html:<a href='/agenda/2026/4/23/ontmoetingspunt-well-communicanten-door-de-jaren-heen-112539'>/agenda/2026/4/23/ontmoetingspunt-well-communicanten-door-de-jaren-heen-112539</a> || <p>Archief Well presenteert foto’s met live commentaar op donderdag &nbsp;23 april 2026<br />Iedereen is welkom. Gratis toegang voor de fotopresentatie. Zaal is open om 10.00 uur<br />Bij het Ontmoetingspunt staan deze keer de communicanten centraal. Er worden foto’s vertoond uit de periode dat het vanzelfsprekend was dat alle kinderen uit de klas de Eerste H. Communie ontvingen op Hemelvaartsdag.<br />De presentatie op donderdag 23 april begint om 10:30 en duurt tot 11:45 uur. Met de getoonde foto’s komen de herinneringen bij de toeschouwers. Tot ziens in de Buun!<br /><br />Om 12:00 uur&nbsp;kan iedereen&nbsp;aan een drie gangen warme maaltijd deelnemen.&nbsp;Hiervoor moet men zich vóór dinsdag 21 april opgeven bij Ger Koch: 06 52731591. De maaltijd kost € 10,50 p.p.<br /><br />Meer informatie over de medewerking van Archief Well aan het Ontmoetingspunt Well staat op deze pagina.<br /><a href="https://www.archiefwell.nl/cultuur/alle-info-archief-well/ontmoetingspunt-well%C2%A0%C2%A0" rel="noreferrer" target="_blank">https://www.archiefwell.nl/cultuur/alle-info-archief-well/ontmoetingspunt-well &nbsp;</a> </p>
DESCRIPTION:<a href='/agenda/2026/4/23/ontmoetingspunt-well-communicanten-door-de-jaren-heen-112539'>/agenda/2026/4/23/ontmoetingspunt-well-communicanten-door-de-jaren-heen-112539</a> || <p>Archief Well presenteert foto’s met live commentaar op donderdag &nbsp;23 april 2026<br />Iedereen is welkom. Gratis toegang voor de fotopresentatie. Zaal is open om 10.00 uur<br />Bij het Ontmoetingspunt staan deze keer de communicanten centraal. Er worden foto’s vertoond uit de periode dat het vanzelfsprekend was dat alle kinderen uit de klas de Eerste H. Communie ontvingen op Hemelvaartsdag.<br />De presentatie op donderdag 23 april begint om 10:30 en duurt tot 11:45 uur. Met de getoonde foto’s komen de herinneringen bij de toeschouwers. Tot ziens in de Buun!<br /><br />Om 12:00 uur&nbsp;kan iedereen&nbsp;aan een drie gangen warme maaltijd deelnemen.&nbsp;Hiervoor moet men zich vóór dinsdag 21 april opgeven bij Ger Koch: 06 52731591. De maaltijd kost € 10,50 p.p.<br /><br />Meer informatie over de medewerking van Archief Well aan het Ontmoetingspunt Well staat op deze pagina.<br /><a href="https://www.archiefwell.nl/cultuur/alle-info-archief-well/ontmoetingspunt-well%C2%A0%C2%A0" rel="noreferrer" target="_blank">https://www.archiefwell.nl/cultuur/alle-info-archief-well/ontmoetingspunt-well &nbsp;</a> </p>
LAST-MODIFIED:20260420T162434Z
LOCATION: MFC De Buun | Kasteellaan 25 Well
SEQUENCE:0
STATUS:CONFIRMED
SUMMARY:Ontmoetingspunt Well: Communicanten door de jaren heen
TRANSP:OPAQUE
END:VEVENT
END:VCALENDAR
