BEGIN:VCALENDAR
PRODID:-//PUBBLE//agenda//NL
VERSION:2.0
METHOD:PUBLISH
BEGIN:VEVENT
DTSTART:20210831T070000Z
DTEND:20210119T160000Z
DTSTAMP:20260423T020257Z
UID:f8c2bc8d-6f1a-4516-90c7-21692539f885
CREATED:20260423T020257Z
NAME:Afval | Afferden - Aijen - Bergen - Nieuw Bergen maasduinencentraal.nl
X-WR-CALNAME:Afval | Afferden - Aijen - Bergen - Nieuw Bergen
X-ALT-DESC;FMTTYPE=text/html:<a href='/agenda/2021/8/31/afval-afferden-aijen-bergen-nieuw-bergen-85743'>/agenda/2021/8/31/afval-afferden-aijen-bergen-nieuw-bergen-85743</a> || <p>Groene en grijze bak in de dorpskernen van Afferden - Aijen - Bergen - Nieuw Bergen</p>
DESCRIPTION:<a href='/agenda/2021/8/31/afval-afferden-aijen-bergen-nieuw-bergen-85743'>/agenda/2021/8/31/afval-afferden-aijen-bergen-nieuw-bergen-85743</a> || <p>Groene en grijze bak in de dorpskernen van Afferden - Aijen - Bergen - Nieuw Bergen</p>
LAST-MODIFIED:20260423T020257Z
LOCATION: Mosaïque | Raadhuisstraat  Bergen
SEQUENCE:0
STATUS:CONFIRMED
SUMMARY:Afval | Afferden - Aijen - Bergen - Nieuw Bergen
TRANSP:OPAQUE
END:VEVENT
END:VCALENDAR
